Package: OmaDB Version: 2.18.0 Command: /Library/Frameworks/R.framework/Resources/bin/R CMD check --install=check:OmaDB.install-out.txt --library=/Library/Frameworks/R.framework/Resources/library --no-vignettes --timings OmaDB_2.18.0.tar.gz StartedAt: 2024-04-16 06:22:04 -0400 (Tue, 16 Apr 2024) EndedAt: 2024-04-16 06:36:27 -0400 (Tue, 16 Apr 2024) EllapsedTime: 862.6 seconds RetCode: 1 Status: ERROR CheckDir: OmaDB.Rcheck Warnings: NA