Package: OmicsLonDA Version: 1.18.0 Command: /Library/Frameworks/R.framework/Resources/bin/R CMD build --keep-empty-dirs --no-resave-data OmicsLonDA StartedAt: 2024-04-15 20:34:21 -0400 (Mon, 15 Apr 2024) EndedAt: 2024-04-15 20:34:55 -0400 (Mon, 15 Apr 2024) EllapsedTime: 34.7 seconds RetCode: 1 Status: ERROR PackageFile: None PackageFileSize: NA