Package: Omixer Version: 1.12.0 Command: /Library/Frameworks/R.framework/Resources/bin/R CMD build --keep-empty-dirs --no-resave-data Omixer StartedAt: 2024-03-03 17:38:48 -0500 (Sun, 03 Mar 2024) EndedAt: 2024-03-03 17:40:20 -0500 (Sun, 03 Mar 2024) EllapsedTime: 92.4 seconds RetCode: 0 Status: OK PackageFile: Omixer_1.12.0.tar.gz PackageFileSize: 1.405 MiB