Package: OncoScore Version: 1.30.0 Command: rm -rf OncoScore.buildbin-libdir && mkdir OncoScore.buildbin-libdir && F:\biocbuild\bbs-3.18-bioc\R\bin\R.exe CMD INSTALL --build --library=OncoScore.buildbin-libdir OncoScore_1.30.0.tar.gz StartedAt: 2024-04-16 07:23:38 -0400 (Tue, 16 Apr 2024) EndedAt: 2024-04-16 07:24:00 -0400 (Tue, 16 Apr 2024) EllapsedTime: 22.5 seconds RetCode: 0 Status: OK PackageFile: OncoScore_1.30.0.zip PackageFileSize: 712.1 KiB