Package: OncoScore Version: 1.30.0 Command: chmod a+r OncoScore -R && F:\biocbuild\bbs-3.18-bioc\R\bin\R.exe CMD build --keep-empty-dirs --no-resave-data OncoScore StartedAt: 2024-04-15 19:59:16 -0400 (Mon, 15 Apr 2024) EndedAt: 2024-04-15 20:00:22 -0400 (Mon, 15 Apr 2024) EllapsedTime: 65.9 seconds RetCode: 0 Status: OK PackageFile: OncoScore_1.30.0.tar.gz PackageFileSize: 657.5 KiB