Package: PADOG Version: 1.44.0 Command: /home/biocbuild/R/R-4.3.1/bin/R CMD build --keep-empty-dirs --no-resave-data PADOG StartedAt: 2023-11-02 04:22:46 -0000 (Thu, 02 Nov 2023) EndedAt: 2023-11-02 04:25:07 -0000 (Thu, 02 Nov 2023) EllapsedTime: 141.2 seconds RetCode: 0 Status: OK PackageFile: PADOG_1.44.0.tar.gz PackageFileSize: 358.4 KiB