Package: PADOG Version: 1.44.0 Command: chmod a+r PADOG -R && F:\biocbuild\bbs-3.18-bioc\R\bin\R.exe CMD build --keep-empty-dirs --no-resave-data PADOG StartedAt: 2024-04-15 20:05:56 -0400 (Mon, 15 Apr 2024) EndedAt: 2024-04-15 20:08:38 -0400 (Mon, 15 Apr 2024) EllapsedTime: 161.8 seconds RetCode: 0 Status: OK PackageFile: PADOG_1.44.0.tar.gz PackageFileSize: 236.4 KiB