Package: PAST Version: 1.18.0 Command: /Library/Frameworks/R.framework/Resources/bin/R CMD check --install=check:PAST.install-out.txt --library=/Library/Frameworks/R.framework/Resources/library --no-vignettes --timings PAST_1.18.0.tar.gz StartedAt: 2024-03-03 22:28:00 -0500 (Sun, 03 Mar 2024) EndedAt: 2024-03-03 22:37:00 -0500 (Sun, 03 Mar 2024) EllapsedTime: 539.9 seconds RetCode: 0 Status: WARNINGS CheckDir: PAST.Rcheck Warnings: 2