Package: PCAtools Version: 2.14.0 Command: /Library/Frameworks/R.framework/Resources/bin/R CMD INSTALL PCAtools StartedAt: 2024-03-03 15:38:42 -0500 (Sun, 03 Mar 2024) EndedAt: 2024-03-03 15:39:29 -0500 (Sun, 03 Mar 2024) EllapsedTime: 47.5 seconds RetCode: 0 Status: OK