Package: PCAtools Version: 2.14.0 Command: rm -rf PCAtools.buildbin-libdir && mkdir PCAtools.buildbin-libdir && F:\biocbuild\bbs-3.18-bioc\R\bin\R.exe CMD INSTALL --build --library=PCAtools.buildbin-libdir PCAtools_2.14.0.tar.gz StartedAt: 2024-04-16 07:25:39 -0400 (Tue, 16 Apr 2024) EndedAt: 2024-04-16 07:26:27 -0400 (Tue, 16 Apr 2024) EllapsedTime: 48.5 seconds RetCode: 0 Status: OK PackageFile: PCAtools_2.14.0.zip PackageFileSize: 2.603 MiB