Package: PECA Version: 1.38.0 Command: /home/biocbuild/R/R-4.3.1/bin/R CMD check --install=check:PECA.install-out.txt --library=/home/biocbuild/R/R-4.3.1/site-library --no-vignettes --timings PECA_1.38.0.tar.gz StartedAt: 2023-11-02 13:00:52 -0000 (Thu, 02 Nov 2023) EndedAt: 2023-11-02 13:04:03 -0000 (Thu, 02 Nov 2023) EllapsedTime: 190.4 seconds RetCode: 0 Status: OK CheckDir: PECA.Rcheck Warnings: 0