Package: PECA Version: 1.38.0 Command: chmod a+r PECA -R && F:\biocbuild\bbs-3.18-bioc\R\bin\R.exe CMD build --keep-empty-dirs --no-resave-data PECA StartedAt: 2024-04-15 20:12:34 -0400 (Mon, 15 Apr 2024) EndedAt: 2024-04-15 20:13:17 -0400 (Mon, 15 Apr 2024) EllapsedTime: 42.8 seconds RetCode: 0 Status: OK PackageFile: PECA_1.38.0.tar.gz PackageFileSize: 126.8 KiB