Package: PLPE Version: 1.62.0 Command: /home/biocbuild/bbs-3.18-bioc/R/bin/R CMD INSTALL PLPE StartedAt: 2024-04-15 15:06:54 -0400 (Mon, 15 Apr 2024) EndedAt: 2024-04-15 15:07:14 -0400 (Mon, 15 Apr 2024) EllapsedTime: 19.9 seconds RetCode: 0 Status: OK