Package: PLPE Version: 1.62.0 Command: chmod a+r PLPE -R && F:\biocbuild\bbs-3.18-bioc\R\bin\R.exe CMD build --keep-empty-dirs --no-resave-data PLPE StartedAt: 2024-04-15 20:19:37 -0400 (Mon, 15 Apr 2024) EndedAt: 2024-04-15 20:19:53 -0400 (Mon, 15 Apr 2024) EllapsedTime: 15.7 seconds RetCode: 0 Status: OK PackageFile: PLPE_1.62.0.tar.gz PackageFileSize: 156 KiB