Package: POWSC Version: 1.10.0 Command: /Library/Frameworks/R.framework/Resources/bin/R CMD INSTALL POWSC StartedAt: 2024-04-15 15:21:35 -0400 (Mon, 15 Apr 2024) EndedAt: 2024-04-15 15:22:36 -0400 (Mon, 15 Apr 2024) EllapsedTime: 61.7 seconds RetCode: 0 Status: OK