Package: POWSC Version: 1.10.0 Command: chmod a+r POWSC -R && F:\biocbuild\bbs-3.18-bioc\R\bin\R.exe CMD build --keep-empty-dirs --no-resave-data POWSC StartedAt: 2024-04-15 20:21:45 -0400 (Mon, 15 Apr 2024) EndedAt: 2024-04-15 20:23:10 -0400 (Mon, 15 Apr 2024) EllapsedTime: 85.4 seconds RetCode: 0 Status: OK PackageFile: POWSC_1.10.0.tar.gz PackageFileSize: 1.114 MiB