Package: PPInfer Version: 1.28.0 Command: rm -rf PPInfer.buildbin-libdir && mkdir PPInfer.buildbin-libdir && /Users/biocbuild/BBS/utils/build-universal.sh PPInfer_1.28.0.tar.gz /Library/Frameworks/R.framework/Resources/bin/R PPInfer.buildbin-libdir StartedAt: 2024-03-04 00:56:41 -0500 (Mon, 04 Mar 2024) EndedAt: 2024-03-04 00:57:19 -0500 (Mon, 04 Mar 2024) EllapsedTime: 37.4 seconds RetCode: 0 Status: OK PackageFile: PPInfer_1.28.0.tgz PackageFileSize: 386.4 KiB