Package: PPInfer Version: 1.28.0 Command: /Library/Frameworks/R.framework/Resources/bin/R CMD build --keep-empty-dirs --no-resave-data PPInfer StartedAt: 2024-03-03 17:50:55 -0500 (Sun, 03 Mar 2024) EndedAt: 2024-03-03 17:53:14 -0500 (Sun, 03 Mar 2024) EllapsedTime: 139.7 seconds RetCode: 0 Status: OK PackageFile: PPInfer_1.28.0.tar.gz PackageFileSize: 325.9 KiB