Package: PPInfer Version: 1.28.0 Command: /Library/Frameworks/R.framework/Resources/bin/R CMD check --install=check:PPInfer.install-out.txt --library=/Library/Frameworks/R.framework/Resources/library --no-vignettes --timings PPInfer_1.28.0.tar.gz StartedAt: 2024-03-03 22:37:28 -0500 (Sun, 03 Mar 2024) EndedAt: 2024-03-03 22:47:00 -0500 (Sun, 03 Mar 2024) EllapsedTime: 572.3 seconds RetCode: 0 Status: OK CheckDir: PPInfer.Rcheck Warnings: 0