Package: PPInfer Version: 1.28.0 Command: rm -rf PPInfer.buildbin-libdir && mkdir PPInfer.buildbin-libdir && /Users/biocbuild/BBS/utils/build-universal.sh PPInfer_1.28.0.tar.gz /Library/Frameworks/R.framework/Resources/bin/R PPInfer.buildbin-libdir StartedAt: 2024-04-16 12:26:32 -0400 (Tue, 16 Apr 2024) EndedAt: 2024-04-16 12:27:23 -0400 (Tue, 16 Apr 2024) EllapsedTime: 51.1 seconds RetCode: 0 Status: OK PackageFile: PPInfer_1.28.0.tgz PackageFileSize: 386.5 KiB