Package: PPInfer Version: 1.28.0 Command: /Library/Frameworks/R.framework/Resources/bin/R CMD check --install=check:PPInfer.install-out.txt --library=/Library/Frameworks/R.framework/Resources/library --no-vignettes --timings PPInfer_1.28.0.tar.gz StartedAt: 2024-04-16 07:05:07 -0400 (Tue, 16 Apr 2024) EndedAt: 2024-04-16 07:15:18 -0400 (Tue, 16 Apr 2024) EllapsedTime: 611.7 seconds RetCode: 0 Status: OK CheckDir: PPInfer.Rcheck Warnings: 0