Package: PROPER Version: 1.34.0 Command: /Library/Frameworks/R.framework/Resources/bin/R CMD check --install=check:PROPER.install-out.txt --library=/Library/Frameworks/R.framework/Resources/library --no-vignettes --timings PROPER_1.34.0.tar.gz StartedAt: 2024-04-16 07:11:25 -0400 (Tue, 16 Apr 2024) EndedAt: 2024-04-16 07:12:57 -0400 (Tue, 16 Apr 2024) EllapsedTime: 91.8 seconds RetCode: 0 Status: WARNINGS CheckDir: PROPER.Rcheck Warnings: 2