Package: PSEA Version: 1.36.0 Command: /home/biocbuild/R/R-4.3.1/bin/R CMD build --keep-empty-dirs --no-resave-data PSEA StartedAt: 2023-11-02 04:44:25 -0000 (Thu, 02 Nov 2023) EndedAt: 2023-11-02 04:45:38 -0000 (Thu, 02 Nov 2023) EllapsedTime: 73.1 seconds RetCode: 0 Status: OK PackageFile: PSEA_1.36.0.tar.gz PackageFileSize: 6.101 MiB