Package: PSMatch
Version: 1.6.0
Command: /Library/Frameworks/R.framework/Resources/bin/R CMD check --install=check:PSMatch.install-out.txt --library=/Library/Frameworks/R.framework/Resources/library --no-vignettes --timings PSMatch_1.6.0.tar.gz
StartedAt: 2024-04-16 07:13:58 -0400 (Tue, 16 Apr 2024)
EndedAt: 2024-04-16 07:22:30 -0400 (Tue, 16 Apr 2024)
EllapsedTime: 511.8 seconds
RetCode: 0
Status: OK
CheckDir: PSMatch.Rcheck
Warnings: 0