Package: PWMEnrich Version: 4.38.0 Command: /Library/Frameworks/R.framework/Resources/bin/R CMD check --install=check:PWMEnrich.install-out.txt --library=/Library/Frameworks/R.framework/Resources/library --no-vignettes --timings PWMEnrich_4.38.0.tar.gz StartedAt: 2024-03-03 22:43:00 -0500 (Sun, 03 Mar 2024) EndedAt: 2024-03-03 22:45:07 -0500 (Sun, 03 Mar 2024) EllapsedTime: 126.4 seconds RetCode: 0 Status: OK CheckDir: PWMEnrich.Rcheck Warnings: 0