Package: PWMEnrich Version: 4.38.0 Command: /Library/Frameworks/R.framework/Resources/bin/R CMD build --keep-empty-dirs --no-resave-data PWMEnrich StartedAt: 2024-04-15 21:02:38 -0400 (Mon, 15 Apr 2024) EndedAt: 2024-04-15 21:05:02 -0400 (Mon, 15 Apr 2024) EllapsedTime: 144.6 seconds RetCode: 0 Status: OK PackageFile: PWMEnrich_4.38.0.tar.gz PackageFileSize: 1.57 MiB