Package: PeacoQC Version: 1.12.0 Command: /Library/Frameworks/R.framework/Resources/bin/R CMD build --keep-empty-dirs --no-resave-data PeacoQC StartedAt: 2024-04-15 20:48:30 -0400 (Mon, 15 Apr 2024) EndedAt: 2024-04-15 20:50:37 -0400 (Mon, 15 Apr 2024) EllapsedTime: 127.5 seconds RetCode: 0 Status: OK PackageFile: PeacoQC_1.12.0.tar.gz PackageFileSize: 1.52 MiB