Package: PhIPData Version: 1.10.0 Command: /Library/Frameworks/R.framework/Resources/bin/R CMD build --keep-empty-dirs --no-resave-data PhIPData StartedAt: 2024-03-03 17:48:27 -0500 (Sun, 03 Mar 2024) EndedAt: 2024-03-03 17:49:42 -0500 (Sun, 03 Mar 2024) EllapsedTime: 74.7 seconds RetCode: 0 Status: OK PackageFile: PhIPData_1.10.0.tar.gz PackageFileSize: 820.8 KiB