Package: PhIPData Version: 1.10.0 Command: /Library/Frameworks/R.framework/Resources/bin/R CMD INSTALL PhIPData StartedAt: 2024-03-03 15:12:04 -0500 (Sun, 03 Mar 2024) EndedAt: 2024-03-03 15:12:44 -0500 (Sun, 03 Mar 2024) EllapsedTime: 39.5 seconds RetCode: 0 Status: OK