Package: PhIPData Version: 1.10.0 Command: /home/biocbuild/bbs-3.18-bioc/R/bin/R CMD build --keep-empty-dirs --no-resave-data PhIPData StartedAt: 2024-04-15 18:32:15 -0400 (Mon, 15 Apr 2024) EndedAt: 2024-04-15 18:33:07 -0400 (Mon, 15 Apr 2024) EllapsedTime: 52.2 seconds RetCode: 0 Status: OK PackageFile: PhIPData_1.10.0.tar.gz PackageFileSize: 820.8 KiB