Package: PharmacoGx Version: 3.6.0 Command: chmod a+r PharmacoGx -R && F:\biocbuild\bbs-3.18-bioc\R\bin\R.exe CMD build --keep-empty-dirs --no-resave-data PharmacoGx StartedAt: 2024-04-15 20:16:21 -0400 (Mon, 15 Apr 2024) EndedAt: 2024-04-15 20:18:30 -0400 (Mon, 15 Apr 2024) EllapsedTime: 129.6 seconds RetCode: 0 Status: OK PackageFile: PharmacoGx_3.6.0.tar.gz PackageFileSize: 4.419 MiB