Package: PharmacoGx Version: 3.6.0 Command: F:\biocbuild\bbs-3.18-bioc\R\bin\R.exe CMD INSTALL PharmacoGx StartedAt: 2024-04-15 16:26:49 -0400 (Mon, 15 Apr 2024) EndedAt: 2024-04-15 16:28:00 -0400 (Mon, 15 Apr 2024) EllapsedTime: 71.4 seconds RetCode: 0 Status: OK