Package: PhosR Version: 1.12.0 Command: /Library/Frameworks/R.framework/Resources/bin/R CMD build --keep-empty-dirs --no-resave-data PhosR StartedAt: 2024-04-15 20:53:06 -0400 (Mon, 15 Apr 2024) EndedAt: 2024-04-15 21:00:29 -0400 (Mon, 15 Apr 2024) EllapsedTime: 443.2 seconds RetCode: 0 Status: OK PackageFile: PhosR_1.12.0.tar.gz PackageFileSize: 7.961 MiB