Package: PhosR Version: 1.12.0 Command: rm -rf PhosR.buildbin-libdir && mkdir PhosR.buildbin-libdir && F:\biocbuild\bbs-3.18-bioc\R\bin\R.exe CMD INSTALL --build --library=PhosR.buildbin-libdir PhosR_1.12.0.tar.gz StartedAt: 2024-04-16 07:26:25 -0400 (Tue, 16 Apr 2024) EndedAt: 2024-04-16 07:27:10 -0400 (Tue, 16 Apr 2024) EllapsedTime: 44.7 seconds RetCode: 0 Status: OK PackageFile: PhosR_1.12.0.zip PackageFileSize: 4.749 MiB