Package: PhosR Version: 1.12.0 Command: chmod a+r PhosR -R && F:\biocbuild\bbs-3.18-bioc\R\bin\R.exe CMD build --keep-empty-dirs --no-resave-data PhosR StartedAt: 2024-04-15 20:18:19 -0400 (Mon, 15 Apr 2024) EndedAt: 2024-04-15 20:23:55 -0400 (Mon, 15 Apr 2024) EllapsedTime: 336.7 seconds RetCode: 0 Status: OK PackageFile: PhosR_1.12.0.tar.gz PackageFileSize: 6.701 MiB