Package: Pi Version: 2.14.0 Command: /Library/Frameworks/R.framework/Resources/bin/R CMD build --keep-empty-dirs --no-resave-data Pi StartedAt: 2024-03-03 17:49:06 -0500 (Sun, 03 Mar 2024) EndedAt: 2024-03-03 17:50:30 -0500 (Sun, 03 Mar 2024) EllapsedTime: 83.7 seconds RetCode: 0 Status: OK PackageFile: Pi_2.14.0.tar.gz PackageFileSize: 2.874 MiB