Package: Pi Version: 2.14.0 Command: rm -rf Pi.buildbin-libdir && mkdir Pi.buildbin-libdir && F:\biocbuild\bbs-3.18-bioc\R\bin\R.exe CMD INSTALL --build --library=Pi.buildbin-libdir Pi_2.14.0.tar.gz StartedAt: 2024-03-06 09:07:19 -0500 (Wed, 06 Mar 2024) EndedAt: 2024-03-06 09:08:00 -0500 (Wed, 06 Mar 2024) EllapsedTime: 40.7 seconds RetCode: 0 Status: OK PackageFile: Pi_2.14.0.zip PackageFileSize: 2.915 MiB