Package: Pi Version: 2.14.0 Command: F:\biocbuild\bbs-3.18-bioc\R\bin\R.exe CMD check --no-multiarch --install=check:Pi.install-out.txt --library=F:\biocbuild\bbs-3.18-bioc\R\library --no-vignettes --timings Pi_2.14.0.tar.gz StartedAt: 2024-03-06 05:07:48 -0500 (Wed, 06 Mar 2024) EndedAt: 2024-03-06 05:11:12 -0500 (Wed, 06 Mar 2024) EllapsedTime: 203.6 seconds RetCode: 0 Status: WARNINGS CheckDir: Pi.Rcheck Warnings: 2