Package: Pi Version: 2.14.0 Command: F:\biocbuild\bbs-3.18-bioc\R\bin\R.exe CMD INSTALL Pi StartedAt: 2024-04-15 16:51:32 -0400 (Mon, 15 Apr 2024) EndedAt: 2024-04-15 16:51:33 -0400 (Mon, 15 Apr 2024) EllapsedTime: 1.1 seconds RetCode: 1 Status: ERROR