Package: Pigengene Version: 1.28.0 Command: /Library/Frameworks/R.framework/Resources/bin/R CMD check --install=check:Pigengene.install-out.txt --library=/Library/Frameworks/R.framework/Resources/library --no-vignettes --timings Pigengene_1.28.0.tar.gz StartedAt: 2024-03-03 22:34:04 -0500 (Sun, 03 Mar 2024) EndedAt: 2024-03-03 22:45:46 -0500 (Sun, 03 Mar 2024) EllapsedTime: 702.0 seconds RetCode: 0 Status: OK CheckDir: Pigengene.Rcheck Warnings: 0