Package: PloGO2 Version: 1.14.0 Command: /home/biocbuild/R/R-4.3.1/bin/R CMD build --keep-empty-dirs --no-resave-data PloGO2 StartedAt: 2023-11-02 04:36:16 -0000 (Thu, 02 Nov 2023) EndedAt: 2023-11-02 04:38:55 -0000 (Thu, 02 Nov 2023) EllapsedTime: 158.2 seconds RetCode: 0 Status: OK PackageFile: PloGO2_1.14.0.tar.gz PackageFileSize: 2.675 MiB