Package: Prostar Version: 1.34.6 Command: /Library/Frameworks/R.framework/Resources/bin/R CMD INSTALL Prostar StartedAt: 2024-03-03 15:42:54 -0500 (Sun, 03 Mar 2024) EndedAt: 2024-03-03 15:43:20 -0500 (Sun, 03 Mar 2024) EllapsedTime: 25.9 seconds RetCode: 0 Status: OK