Package: Prostar Version: 1.34.6 Command: rm -rf Prostar.buildbin-libdir && mkdir Prostar.buildbin-libdir && /Users/biocbuild/BBS/utils/build-universal.sh Prostar_1.34.6.tar.gz /Library/Frameworks/R.framework/Resources/bin/R Prostar.buildbin-libdir StartedAt: 2024-04-11 12:09:16 -0400 (Thu, 11 Apr 2024) EndedAt: 2024-04-11 12:10:00 -0400 (Thu, 11 Apr 2024) EllapsedTime: 44.2 seconds RetCode: 0 Status: OK PackageFile: Prostar_1.34.6.tgz PackageFileSize: 3.082 MiB