Package: Prostar Version: 1.34.7 Command: /Library/Frameworks/R.framework/Resources/bin/R CMD INSTALL Prostar StartedAt: 2024-04-15 16:35:03 -0400 (Mon, 15 Apr 2024) EndedAt: 2024-04-15 16:35:05 -0400 (Mon, 15 Apr 2024) EllapsedTime: 2.2 seconds RetCode: 1 Status: ERROR