Package: Prostar Version: 1.34.6 Command: rm -rf Prostar.buildbin-libdir && mkdir Prostar.buildbin-libdir && F:\biocbuild\bbs-3.18-bioc\R\bin\R.exe CMD INSTALL --build --library=Prostar.buildbin-libdir Prostar_1.34.6.tar.gz StartedAt: 2024-04-11 07:28:15 -0400 (Thu, 11 Apr 2024) EndedAt: 2024-04-11 07:28:50 -0400 (Thu, 11 Apr 2024) EllapsedTime: 34.7 seconds RetCode: 0 Status: OK PackageFile: Prostar_1.34.6.zip PackageFileSize: 3.144 MiB