Package: Prostar Version: 1.34.7 Command: chmod a+r Prostar -R && F:\biocbuild\bbs-3.18-bioc\R\bin\R.exe CMD build --keep-empty-dirs --no-resave-data Prostar StartedAt: 2024-04-15 20:25:29 -0400 (Mon, 15 Apr 2024) EndedAt: 2024-04-15 20:25:36 -0400 (Mon, 15 Apr 2024) EllapsedTime: 7.0 seconds RetCode: 1 Status: ERROR PackageFile: None PackageFileSize: NA