Package: PureCN Version: 2.8.1 Command: /Library/Frameworks/R.framework/Resources/bin/R CMD check --install=check:PureCN.install-out.txt --library=/Library/Frameworks/R.framework/Resources/library --no-vignettes --timings PureCN_2.8.1.tar.gz StartedAt: 2024-04-16 07:14:56 -0400 (Tue, 16 Apr 2024) EndedAt: 2024-04-16 07:49:23 -0400 (Tue, 16 Apr 2024) EllapsedTime: 2067.3 seconds RetCode: 0 Status: OK CheckDir: PureCN.Rcheck Warnings: 0