Package: PureCN Version: 2.8.1 Command: /Library/Frameworks/R.framework/Resources/bin/R CMD INSTALL PureCN StartedAt: 2024-04-15 15:51:10 -0400 (Mon, 15 Apr 2024) EndedAt: 2024-04-15 15:52:57 -0400 (Mon, 15 Apr 2024) EllapsedTime: 107.2 seconds RetCode: 0 Status: OK