Package: PureCN Version: 2.8.1 Command: /home/biocbuild/bbs-3.18-bioc/R/bin/R CMD build --keep-empty-dirs --no-resave-data PureCN StartedAt: 2024-04-15 18:38:20 -0400 (Mon, 15 Apr 2024) EndedAt: 2024-04-15 18:42:25 -0400 (Mon, 15 Apr 2024) EllapsedTime: 244.5 seconds RetCode: 0 Status: OK PackageFile: PureCN_2.8.1.tar.gz PackageFileSize: 5.717 MiB