Package: Pviz Version: 1.36.0 Command: /Library/Frameworks/R.framework/Resources/bin/R CMD build --keep-empty-dirs --no-resave-data Pviz StartedAt: 2024-03-03 17:53:31 -0500 (Sun, 03 Mar 2024) EndedAt: 2024-03-03 17:55:40 -0500 (Sun, 03 Mar 2024) EllapsedTime: 129.0 seconds RetCode: 0 Status: OK PackageFile: Pviz_1.36.0.tar.gz PackageFileSize: 203.1 KiB